BEGIN:VCALENDAR
VERSION:2.0
PRODID:https://www.kufer.de/kuferweb / DE
METHOD:PUBLISH
CALSCALE:GREGORIAN
X-WR-TIMEZONE:Europe/Berlin
BEGIN:VTIMEZONE
TZID:Europe/Berlin
X-LIC-LOCATION:Europe/Berlin
BEGIN:DAYLIGHT
TZOFFSETFROM:+0100
TZOFFSETTO:+0200
TZNAME:CEST
DTSTART:19700329T020000
RRULE:FREQ=YEARLY;INTERVAL=1;BYDAY=-1SU;BYMONTH=3
END:DAYLIGHT
BEGIN:STANDARD
TZOFFSETFROM:+0200
TZOFFSETTO:+0100
TZNAME:CET
DTSTART:19701025T030000
RRULE:FREQ=YEARLY;INTERVAL=1;BYDAY=-1SU;BYMONTH=10
END:STANDARD
END:VTIMEZONE
BEGIN:VEVENT
DTSTAMP:20260425T155116
DTSTART;TZID=Europe/Berlin:20260508T100000
DTEND;TZID=Europe/Berlin:20260508T113000
UID:26172-052-20260508T100000@VHSMEPPEN
SUMMARY:Englisch B2 English Conversation (Vorkenntnisse ca. 5-7 J.) KG (26172-052) 
LOCATION:Freih.-v.-Stein-Haus, Raum 1-02, Freiherr-vom-Stein-Str. 1, 49716 Meppen
END:VEVENT
BEGIN:VEVENT
DTSTAMP:20260425T155116
DTSTART;TZID=Europe/Berlin:20260522T100000
DTEND;TZID=Europe/Berlin:20260522T113000
UID:26172-052-20260522T100000@VHSMEPPEN
SUMMARY:Englisch B2 English Conversation (Vorkenntnisse ca. 5-7 J.) KG (26172-052) 
LOCATION:Freih.-v.-Stein-Haus, Raum 1-02, Freiherr-vom-Stein-Str. 1, 49716 Meppen
END:VEVENT
BEGIN:VEVENT
DTSTAMP:20260425T155116
DTSTART;TZID=Europe/Berlin:20260529T100000
DTEND;TZID=Europe/Berlin:20260529T113000
UID:26172-052-20260529T100000@VHSMEPPEN
SUMMARY:Englisch B2 English Conversation (Vorkenntnisse ca. 5-7 J.) KG (26172-052) 
LOCATION:Freih.-v.-Stein-Haus, Raum 1-02, Freiherr-vom-Stein-Str. 1, 49716 Meppen
END:VEVENT
BEGIN:VEVENT
DTSTAMP:20260425T155116
DTSTART;TZID=Europe/Berlin:20260605T100000
DTEND;TZID=Europe/Berlin:20260605T113000
UID:26172-052-20260605T100000@VHSMEPPEN
SUMMARY:Englisch B2 English Conversation (Vorkenntnisse ca. 5-7 J.) KG (26172-052) 
LOCATION:Freih.-v.-Stein-Haus, Raum 0-03, Freiherr-vom-Stein-Str. 1, 49716 Meppen
END:VEVENT
BEGIN:VEVENT
DTSTAMP:20260425T155116
DTSTART;TZID=Europe/Berlin:20260612T100000
DTEND;TZID=Europe/Berlin:20260612T113000
UID:26172-052-20260612T100000@VHSMEPPEN
SUMMARY:Englisch B2 English Conversation (Vorkenntnisse ca. 5-7 J.) KG (26172-052) 
LOCATION:Freih.-v.-Stein-Haus, Raum 0-03, Freiherr-vom-Stein-Str. 1, 49716 Meppen
END:VEVENT
END:VCALENDAR